BEGIN:VCALENDAR
VERSION:2.0
PRODID:-//Squarespace Inc/Squarespace 6//v6//EN
BEGIN:VEVENT
UID:54f0dc84e4b080da0c9acbd8@squarespace.com
DTSTAMP:20150512T165055Z
DTSTART:20150628T150000Z
DTEND:20150628T190000Z
SUMMARY:Baking Bread for Beginners
END:VEVENT
END:VCALENDAR
