BEGIN:VCALENDAR
VERSION:2.0
PRODID:-//Squarespace Inc/Squarespace 6//v6//EN
BEGIN:VEVENT
UID:54f0dc77e4b080da0c9acb91@squarespace.com
DTSTAMP:20150327T192726Z
DTSTART:20150331T200000Z
DTEND:20150331T213000Z
SUMMARY:Baking Cookies for kids (6-10)
END:VEVENT
END:VCALENDAR
