BEGIN:VCALENDAR
VERSION:2.0
PRODID:-//Squarespace Inc/Squarespace 6//v6//EN
BEGIN:VEVENT
UID:54f0dc47e4b0a83374fccb62@squarespace.com
DTSTAMP:20150606T104515Z
DTSTART:20150614T170000Z
DTEND:20150614T200000Z
SUMMARY:Gluten-Free and Vegan Baking
END:VEVENT
END:VCALENDAR
