BEGIN:VCALENDAR
VERSION:2.0
PRODID:-//Squarespace Inc/Squarespace 6//v6//EN
BEGIN:VEVENT
UID:55fd5a1ce4b0ab77d512de0c@squarespace.com
DTSTAMP:20150919T130008Z
DTSTART:20150919T040000Z
DTEND:20160229T050000Z
SUMMARY:Private Cooking and Baking Classes
END:VEVENT
END:VCALENDAR
