BEGIN:VCALENDAR
VERSION:2.0
PRODID:-//Squarespace Inc/Squarespace 6//v6//EN
BEGIN:VEVENT
UID:575972eda3360c8aa4384d57@squarespace.com
DTSTAMP:20160609T134532Z
DTSTART:20160610T140000Z
DTEND:20160610T150000Z
SUMMARY:Test Event 1
END:VEVENT
END:VCALENDAR
