BEGIN:VCALENDAR
VERSION:2.0
PRODID:-//Squarespace Inc/Squarespace 6//v6//EN
BEGIN:VEVENT
UID:575932a28259b57649294cfc@squarespace.com
DTSTAMP:20160609T091109Z
DTSTART:20160616T093000Z
DTEND:20160616T103000Z
SUMMARY:Test Event 2
END:VEVENT
END:VCALENDAR
