BEGIN:VCALENDAR
VERSION:2.0
PRODID:-//Squarespace Inc/Squarespace 6//v6//EN
BEGIN:VEVENT
UID:575932d18259b57649294d52@squarespace.com
DTSTAMP:20160609T091156Z
DTSTART:20160623T093000Z
DTEND:20160623T103000Z
SUMMARY:Test Event 3
END:VEVENT
END:VCALENDAR
