BEGIN:VCALENDAR
VERSION:2.0
PRODID:-//Squarespace Inc/Squarespace 6//v6//EN
BEGIN:VEVENT
UID:5759326159827ef6e49bc651@squarespace.com
DTSTAMP:20160609T091133Z
DTSTART:20160609T093000Z
DTEND:20160609T103000Z
SUMMARY:Test Event 1
END:VEVENT
END:VCALENDAR
